BEGIN:VCALENDAR
VERSION:2.0
PRODID:-//IASCA Worldwide, Inc. - ECPv6.15.20//NONSGML v1.0//EN
CALSCALE:GREGORIAN
METHOD:PUBLISH
X-ORIGINAL-URL:https://iasca.com
X-WR-CALDESC:Events for IASCA Worldwide, Inc.
REFRESH-INTERVAL;VALUE=DURATION:PT1H
X-Robots-Tag:noindex
X-PUBLISHED-TTL:PT1H
BEGIN:VTIMEZONE
TZID:UTC
BEGIN:STANDARD
TZOFFSETFROM:+0000
TZOFFSETTO:+0000
TZNAME:UTC
DTSTART:20190101T000000
END:STANDARD
END:VTIMEZONE
BEGIN:VEVENT
DTSTART;TZID=UTC:20200209T100000
DTEND;TZID=UTC:20200209T160000
DTSTAMP:20260421T085949
CREATED:20200127T052350Z
LAST-MODIFIED:20200323T045906Z
UID:2186-1581242400-1581264000@iasca.com
SUMMARY:1X (Longview\, WA) IASCA & Demo Kings
DESCRIPTION:Results \nPS/Tire Factory of Longview\n516 3rd Ave\nLongview\, WA 98632 \nSunday\, Feb 9\, 2020\nRegistration 10AM\nJudging 11AM \nSPE (1x)\nIdBL\nBass Boxing \nEntry $10 per format. Points only\, no awards. \nContact:\nMatt Miller\n(402) 672-3004\nMillerwrx@gmail.com
URL:https://iasca.com/event/iasca-demo-kings/
LOCATION:PS/Tire Factory of Longview\, 516 3rd Ave\, Longview\, WA\, 98632\, United States
END:VEVENT
END:VCALENDAR