BEGIN:VCALENDAR
VERSION:2.0
PRODID:-//IASCA Worldwide, Inc. - ECPv6.15.20//NONSGML v1.0//EN
CALSCALE:GREGORIAN
METHOD:PUBLISH
X-ORIGINAL-URL:https://iasca.com
X-WR-CALDESC:Events for IASCA Worldwide, Inc.
REFRESH-INTERVAL;VALUE=DURATION:PT1H
X-Robots-Tag:noindex
X-PUBLISHED-TTL:PT1H
BEGIN:VTIMEZONE
TZID:UTC
BEGIN:STANDARD
TZOFFSETFROM:+0000
TZOFFSETTO:+0000
TZNAME:UTC
DTSTART:20210101T000000
END:STANDARD
END:VTIMEZONE
BEGIN:VEVENT
DTSTART;VALUE=DATE:20220710
DTEND;VALUE=DATE:20220711
DTSTAMP:20260421T122636
CREATED:20220616T210136Z
LAST-MODIFIED:20220712T232013Z
UID:3536-1657411200-1657497599@iasca.com
SUMMARY:1X (Niles\, MI) Only Tints Window Tinting
DESCRIPTION:Results \nOnly Tints Window Tinting\n2524 Detroit Road\nNiles\, MI 49120 \nSunday\, July 10\, 2022\n$40 entry\nSPE (1X)\nSQC and IQC \nWill also have an EMMA 1X \nContact:\nKeith Turner or Charles G Knight\n513-279-2250\nSQSHOWS@gmail.com
URL:https://iasca.com/event/1x-niles-mi-only-tints-window-tinting/
LOCATION:Only Tints Window Tinting\, 2524 Detroit Road\, Niles\, MI\, 49120\, United States
END:VEVENT
BEGIN:VEVENT
DTSTART;VALUE=DATE:20220710
DTEND;VALUE=DATE:20220711
DTSTAMP:20260421T122636
CREATED:20220623T010708Z
LAST-MODIFIED:20220712T214726Z
UID:3542-1657411200-1657497599@iasca.com
SUMMARY:1X (Orlando\, FL) Creative Car Audio
DESCRIPTION:Results \nCreative Car Audio\n1636 Acme St.\nOrlando\, FL 32805 \nSunday\, July 10\, 2022 \nSPE(1X)\nSQC/IQC \nContact:\nRuss Balazs\nOctave\n(407) 697-2317\noctaveaudio@gmail.com
URL:https://iasca.com/event/1x-orlando-fl-creative-car-audio-2/
LOCATION:Creative Car Audio\, 6160 Edgewater Dr Ste F\, Orlando\, FL\, 32810\, United States
END:VEVENT
BEGIN:VEVENT
DTSTART;VALUE=DATE:20220716
DTEND;VALUE=DATE:20220718
DTSTAMP:20260421T122636
CREATED:20220301T172834Z
LAST-MODIFIED:20220726T220925Z
UID:3318-1657929600-1658102399@iasca.com
SUMMARY:3XWR (Jacksonville\, FL) Summer Showcase
DESCRIPTION:Results \nJacksonville Equestrian Center\n13611 Normandy Blvd.\nJacksonville\, FL 32221 \nJuly 16-17\, 2022\nShow registration starts at 9AM\nCompetition starts at 9AM \nTKE WR (3X) event\nIdBL/Bass Boxing\nEntry $30 per format\nAcrylic awards \nContact:\nJoey Perry\nFatboyz Car Audio\n(256) 470-0402\nfatboyzcaraudio@yahoo.com
URL:https://iasca.com/event/3xwr-jacksonville-fl-summer-showcase/
LOCATION:Jacksonville Equestrian Center\, 13611 Normandy Blvd.\, Jacksonville\, FL\, 32221\, United States
END:VEVENT
BEGIN:VEVENT
DTSTART;VALUE=DATE:20220716
DTEND;VALUE=DATE:20220718
DTSTAMP:20260421T122636
CREATED:20220716T191947Z
LAST-MODIFIED:20220726T221026Z
UID:3576-1657929600-1658102399@iasca.com
SUMMARY:3X (Sinaloa\, Mexico) ExpoWheels 2022
DESCRIPTION:Results \nPlaza Centenario\nLos Mochis\, Sinaloa\, Mexico \nJuly 16-17\, 2022\n10AM \nTKE (3X) Event\nIdBL\, Bass Boxing\, and Tuner Jam \nContact\nAaron Valenzuela Berdugo\n6682155438
URL:https://iasca.com/event/3x-sinaloa-mexico-expowheels-2022/
LOCATION:Plaza Centenario\, Los Mochis\, Sinaloa\, Mexico
END:VEVENT
BEGIN:VEVENT
DTSTART;VALUE=DATE:20220717
DTEND;VALUE=DATE:20220718
DTSTAMP:20260421T122636
CREATED:20220627T051316Z
LAST-MODIFIED:20220718T040826Z
UID:3547-1658016000-1658102399@iasca.com
SUMMARY:3X (Spokane\, WA) Inland Audio Solutions
DESCRIPTION:Results \nInland Audio Solutions\n3038 E Trent Ave\nSpokane\, WA 99202 \nSunday July 17\, 2022\nTKE (3X)\nIdBL/Bass Boxing\nRegistration 10AM\nEntry $30 for one format\, $50 for both
URL:https://iasca.com/event/3x-spokane-wa-inland-audio-solutions/
LOCATION:Inland Audio Solutions\, 3038 E Trent Ave\, Spokane\, WA\, 99202\, United States
END:VEVENT
BEGIN:VEVENT
DTSTART;VALUE=DATE:20220722
DTEND;VALUE=DATE:20220723
DTSTAMP:20260421T122636
CREATED:20220110T205229Z
LAST-MODIFIED:20220803T221223Z
UID:3246-1658448000-1658480400@iasca.com
SUMMARY:3X (New Cumberland\, WV) SQOLOGY Steel Valley X
DESCRIPTION:Results \nMountaineer Casino\, Racetrack and Resort\n1420 Mountaineer Cir\nNew Cumberland\, WV 26047 \nJuly 22-24\, 2022 \nTKE (3X)\nSQC/IQC \nWebsite \nContact:\nKeith Turner or Charles G Knight\n513-279-2250\nSQSHOWS@gmail.com
URL:https://iasca.com/event/3x-new-cumberland-wv-sqology-steel-valley-x/
LOCATION:Mountaineer Casino\, Racetrack and Resort\, 1420 Mountaineer Cir\, New Cumberland\, WV\, 26047\, United States
END:VEVENT
BEGIN:VEVENT
DTSTART;VALUE=DATE:20220723
DTEND;VALUE=DATE:20220724
DTSTAMP:20260421T122636
CREATED:20220531T191340Z
LAST-MODIFIED:20220726T220839Z
UID:3485-1658534400-1658620799@iasca.com
SUMMARY:2X (Cordova\, IL) Cordova Dragway Summer Sound Off
DESCRIPTION:Results \nCordova Dragway\n19425 IL-84\nCordova\, IL 61242 \nDPE (2X) Event\nSQC\, IQC\, IdBL\, Bass Boxing \nSaturday July 23\, 2022\nRegistration 9:30AM\nCompetition 10AM \n$25 for first class $15 for 2nd class \nThere is a $15 entry collected by the track to enter\, then IASCA will collect to participate in the show.\nAlso going on is a mud bog race event\, low roller junior drag racing & test & tune runs at the race track. \nContact:\nBass Addiction\nScott Sinde\nbassaddiction@yahoo.com\n708-218-1454
URL:https://iasca.com/event/2x-cordova-il-cordova-dragway-summer-sound-off/
LOCATION:Cordova Dragway\, 19425 IL-84\, Cordova\, IL\, 61242\, United States
END:VEVENT
BEGIN:VEVENT
DTSTART;VALUE=DATE:20220724
DTEND;VALUE=DATE:20220725
DTSTAMP:20260421T122636
CREATED:20220519T161754Z
LAST-MODIFIED:20220805T203327Z
UID:3474-1658620800-1658707199@iasca.com
SUMMARY:1X (Russellville\, KY) Phat Farm Cash Days Recovery
DESCRIPTION:Results \nPhat Farm\n2024 Union Church Rd.\nRussellville\, KY 42276 \nSunday\, July 24\, 2022\n1X (SPE) Event\nIdBL and Bass Boxing \nRegistration and competition begins at 11AM\n$30 for the first Format $20 for the second Format \nContact:\nJoey Perry\nfatboyzcaraudio@yahoo.com\n2564700402
URL:https://iasca.com/event/1x-russellville-ky-phat-farm-cash-days-recovery/
LOCATION:Phat Farm\, 2024 Union Church Rd\, Russellville\, KY\, 42276\, United States
END:VEVENT
BEGIN:VEVENT
DTSTART;VALUE=DATE:20220730
DTEND;VALUE=DATE:20220731
DTSTAMP:20260421T122636
CREATED:20220612T060342Z
LAST-MODIFIED:20220805T203414Z
UID:3524-1659139200-1659225599@iasca.com
SUMMARY:2X (Tacoma\, WA) Car Toys Tacoma
DESCRIPTION:Results \nCar Toys\n5015 Tacoma Mall Blvd\nTacoma\, WA 98409 \nSaturday\, July 30\, 2022\nDPE (2X)\nIdBL/Bass Boxing\nRegistration 9AM\nNO SPL DEMOS until judging is complete \nEntry $30 for one format\, $50 for both \nContact:\nTravis Chin\nTravis@iasca.com
URL:https://iasca.com/event/2x-tacoma-wa-car-toys-tacoma-2/
LOCATION:Car Toys Tacoma\, 5015 Tacoma Mall Blvd\, Tacoma\, WA\, 98409\, United States
END:VEVENT
BEGIN:VEVENT
DTSTART;VALUE=DATE:20220731
DTEND;VALUE=DATE:20220801
DTSTAMP:20260421T122636
CREATED:20220602T043542Z
LAST-MODIFIED:20220803T221327Z
UID:3499-1659225600-1659311999@iasca.com
SUMMARY:3X (Bakersfield\, CA) Team FDZ Audio Summer Sound Off
DESCRIPTION:Results \nElite Car Audio\n3740 Sillect Ave. Suite 2D\nBakersfield\, CA 93308 \nSunday\, July 31\, 2022\nTKE (3X) Event\nIdBL and Bass Boxing\n8AM Registration\n9AM Judging \nYou won’t want to miss out on this one! Team FDZ Audio Summer Sound Off 2022 very well could be the LARGEST audio event in CA this season!\n– IASCA 3X points competition $45 for first class\, $25 for second class.\n– 3 minute Bass Boxing Death Match ($25 Buy-in/$100 to winner).\n-Custom LED acrylic trophies 1st-3rd + Boxing glove keychains + SPL stickers for 150+db and up.\n-Specailty Awards for Loudest of day (3 categories).\n-Food On-site.\n-Raffle On-site.\n-IASCA Memberships available! \nContact:\nRay Pimley\njeepandbass@gmail.com\n530-790-5926
URL:https://iasca.com/event/3x-bakersfield-ca-team-fdz-audio-summer-sound-off/
LOCATION:Elite Car Audio\, 3740 Sillect Ave. Suite 2D\, Bakersfield\, CA\, 93308\, United States
END:VEVENT
BEGIN:VEVENT
DTSTART;VALUE=DATE:20220731
DTEND;VALUE=DATE:20220801
DTSTAMP:20260421T122636
CREATED:20220612T063505Z
LAST-MODIFIED:20220801T211610Z
UID:3526-1659225600-1659311999@iasca.com
SUMMARY:2X (Bellevue\, WA) Car Toys Bellevue
DESCRIPTION:Results \nCar Toys\n13201 NE 20th St\nBellevue\, WA 98005 \nSunday\, July 31\, 2022\nDPE (2X)\nSQC/IQC\nRegistration 1PM (late start) \nEntry $30 for one format\, $50 for both \nContact:\nTravis Chin\nTravis@iasca.com
URL:https://iasca.com/event/2x-bellevue-wa-car-toys-bellevue/
LOCATION:Car Toys Bellevue\, 13201 NE 20th St\, Bellevue\, WA\, 98005\, United States
END:VEVENT
BEGIN:VEVENT
DTSTART;VALUE=DATE:20220806
DTEND;VALUE=DATE:20220807
DTSTAMP:20260421T122636
CREATED:20220309T222009Z
LAST-MODIFIED:20220811T045044Z
UID:3351-1659744000-1659776400@iasca.com
SUMMARY:3X (Madison\, WI) Str8 Clipping for Autism
DESCRIPTION:Results\n\nTruax-Longmire VFW 8483\n5737 County HWY C\nMadison\, WI 53704Saturday\, Aug 6\, 2022\nRegistration 9AM\nCompetition 10AM \n\nTKE (3X)\nIdBL/Bass Boxing \nIASCA & db drag 3x Event\n$60 Competition entry into both orgs\n$25 for Just demoing.\nAwards 1st-3rd\nthere will be food\, drinks 50/50 raffles and other donations to get raffled off as well…..\nStay tuned more to come….. \nContact:\nBass Addiction\nScott Sinde\nbassaddiction@yahoo.com\n708-218-1454
URL:https://iasca.com/event/3x-madison-wi-str8-clipping-for-autism/
LOCATION:IN
END:VEVENT
BEGIN:VEVENT
DTSTART;VALUE=DATE:20220806
DTEND;VALUE=DATE:20220807
DTSTAMP:20260421T122636
CREATED:20211015T203303Z
LAST-MODIFIED:20220811T044910Z
UID:3189-1659744000-1659830399@iasca.com
SUMMARY:1X (Jennings\, FL) Play Loud 9
DESCRIPTION:Results \n1118 Bee St.\nJennings\, FL 32503 \nSaturday\, August 6\, 2022 \nSPE (1x)\nIdBL/Bass Boxing \nContact:\nJoey Perry\nFatboyz Car Audio\n(256) 470-0402\nfatboyzcaraudio@yahoo.com
URL:https://iasca.com/event/1x-jennings-fl-play-loud-9/
LOCATION:Play Loud\, 1118 Bee St.\, Jennings\, FL\, 32053\, United States
END:VEVENT
BEGIN:VEVENT
DTSTART;VALUE=DATE:20220806
DTEND;VALUE=DATE:20220807
DTSTAMP:20260421T122636
CREATED:20220721T043941Z
LAST-MODIFIED:20220811T044955Z
UID:3587-1659744000-1659830399@iasca.com
SUMMARY:1X (Sacramento\, CA) Steven's Fundraiser Night Show
DESCRIPTION:Results \nLunsford Customs\n5851 Florin Perkins Road\nSacramento\, CA 95828 \nSaturday\, August 6\, 2022\nRegistration 6PM\nCompetition 7PM \nSPE (1X) Event\nIdBL/Bass Boxing/NiteGlow \n$25 Entry \nSteven’s GoFundMe: https://gofund.me/e46f5a5c \nIASCA CA and USACI CA have teamed up to put on a Fundraiser Event to help a local NorCal Basshead who lost his home to fire. 100% of proceeds will go to help Steven and his family recover from this devastating loss. We also want to thank Lunsford Customs for always providing us a venue! \nThere will not be awards for this event as it is completely out of pocket for both organizations and all resources are going to help Steven. \nContact:\nRay Pimley\njeepandbass@gmail.com
URL:https://iasca.com/event/1x-sacramento-ca-stevens-fundraiser-night-show/
LOCATION:Lunsford Customs\, 5851 Florin Perkins Road\, Sacramento\, CA\, 95828\, United States
END:VEVENT
BEGIN:VEVENT
DTSTART;VALUE=DATE:20220807
DTEND;VALUE=DATE:20220808
DTSTAMP:20260421T122636
CREATED:20220725T184519Z
LAST-MODIFIED:20220811T045121Z
UID:3598-1659830400-1659916799@iasca.com
SUMMARY:1X (Russellville\, KY) Phat Farm X
DESCRIPTION:Results \nPhat Farm\n2024 Union Church Rd.\nRussellville\, KY 42276 \nSunday\, August 7\, 2022\n1X (SPE) Event\nIdBL and Bass Boxing\nRegistration 10AM\nCompetition 12PM\n$30 per Format \nContact:\nJoey Perry\nfatboyzcaraudio@yahoo.com\n2564700402
URL:https://iasca.com/event/1x-russellville-ky-phat-farm-x/
LOCATION:Phat Farm\, 2024 Union Church Rd\, Russellville\, KY\, 42276\, United States
END:VEVENT
BEGIN:VEVENT
DTSTART;VALUE=DATE:20220807
DTEND;VALUE=DATE:20220808
DTSTAMP:20260421T122636
CREATED:20220727T223530Z
LAST-MODIFIED:20220811T045205Z
UID:3609-1659830400-1659916799@iasca.com
SUMMARY:3X (College Station\, TX) SQOLOBBQ in Aggieland
DESCRIPTION:Results \nMobile Toys Inc\n12323 SH 30\nCollege Station\, TX 77845 \nThe event that’s not Aggieland\, in Aggieland. SQ only. EMMA\, IASCA\, and MASQ.\nWe are setting up as a 2X but if we get enough pre-registrations\, we’ll boost to a 3X.\nPre-registration is non-refundable so that we can make all the plans\, but with only $20 down\, you can still join in and share in some of the BBQ (supplied by MTI).\nThe remaining registration cost will be due at the time of the event (depending on what all you wish to compete in).\nTo pre-register\, message the SQOLOGY Facebook Page or send an email to register@aggielandsq.com
URL:https://iasca.com/event/2x-college-station-tx-sqolobbq-in-aggieland/
LOCATION:Mobile Toys\, Inc\, 12323 SH 30\, College Station\, TX\, 77845\, United States
END:VEVENT
BEGIN:VEVENT
DTSTART;VALUE=DATE:20220813
DTEND;VALUE=DATE:20220814
DTSTAMP:20260421T122636
CREATED:20220712T232425Z
LAST-MODIFIED:20220712T232425Z
UID:3573-1660348800-1660435199@iasca.com
SUMMARY:2X (Cape Town\, Western Cape\, South Africa) IASCA SA Record Event
DESCRIPTION:Killarney International Raceway\n6 Potsdam Road\, Table View\nCape Town\, Western Cape 7439\nSouth Africa \nSaturday\, August 13\, 2022 \nDPE (2X) Event\nIDBL and Bass Boxing \nRegistration starts 8:30AM\nCompetitor meeting 8:45AM\nCompetition and Show starts 9AM \nContact:\nKieran\niascawc@gmail.com\n+27 82 619 0400
URL:https://iasca.com/event/2x-cape-town-western-cape-south-africa-iasca-sa-record-event/
LOCATION:Killarney International Raceway\, 6 Potsdam Road\, Table View\, Cape Town\, Western Cape\, 7439\, South Africa
END:VEVENT
BEGIN:VEVENT
DTSTART;VALUE=DATE:20220814
DTEND;VALUE=DATE:20220815
DTSTAMP:20260421T122636
CREATED:20220219T044901Z
LAST-MODIFIED:20220823T060816Z
UID:3276-1660435200-1660521599@iasca.com
SUMMARY:1X (Ludlow Falls\, OH) Slammin 4 Soldiers
DESCRIPTION:Results \nSlammin 4 Soldiers\n7578 Fenner Road\nLudlow Falls\, OH 45339 \nSunday\, August 14\, 2022\nSPE (1X)\nSQC and IQC \nContact:\nKeith Turner or Charles G Knight\n513-279-2250\nSQSHOWS@gmail.com
URL:https://iasca.com/event/1x-ludlow-falls-oh-slammin-4-soldiers/
LOCATION:Slammin 4 Soldiers\, 7578 Fenner Road\, Ludlow Falls\, OH\, 45339\, United States
END:VEVENT
BEGIN:VEVENT
DTSTART;VALUE=DATE:20220814
DTEND;VALUE=DATE:20220815
DTSTAMP:20260421T122636
CREATED:20220708T190334Z
LAST-MODIFIED:20220901T052141Z
UID:3566-1660435200-1660521599@iasca.com
SUMMARY:1X (Longview\, WA) Don't Send It Before Surf sponsored by Crystal Audio Solutions
DESCRIPTION:Results \nPoint S Tire\n516 3rd Ave.\nLongview\, WA 98632 \nSunday\, August 14\, 2022\nSPE (1X) Event\nIdBL/Bass Boxing \nRegistration 9AM\n$20 per format or $35 for both \nContact:\nJosh Greer\njoshgreer43@gmail.com\n3604314882
URL:https://iasca.com/event/1x-longview-wa-dont-send-it-before-surf-sponsored-by-crystal-audio-solutions/
LOCATION:Point S Tire\, 516 3rd Ave\, Longview\, WA\, 98632
END:VEVENT
BEGIN:VEVENT
DTSTART;VALUE=DATE:20220820
DTEND;VALUE=DATE:20220821
DTSTAMP:20260421T122636
CREATED:20211015T202351Z
LAST-MODIFIED:20220823T212050Z
UID:3178-1660953600-1661039999@iasca.com
SUMMARY:3XWR (Newton\, NC) Sundown Audio Show
DESCRIPTION:Results \nHickory Motor Speedway\n3130 Highway 70 SE\nNewton\, NC 28658\nJoey Perry and Keith Turner \nSaturday\, August 20\, 2022\nTKE (3X) WR Event\nSQC/IQC/IdBL/Bass Boxing \nContact:\nJoey Perry\nFatboyz Car Audio\n(256) 470-0402\nfatboyzcaraudio@yahoo.com
URL:https://iasca.com/event/3xwr-newton-nc-sundown-audio-show/
LOCATION:Hickory Motor Speedway\, 3130 Highway 70 SE\, Newton\, NC\, 28658\, United States
END:VEVENT
BEGIN:VEVENT
DTSTART;VALUE=DATE:20220820
DTEND;VALUE=DATE:20220821
DTSTAMP:20260421T122636
CREATED:20220819T234320Z
LAST-MODIFIED:20220823T212007Z
UID:3651-1660953600-1661039999@iasca.com
SUMMARY:1X (Sacramento\, CA) Sacramento Raceworz Soundoff
DESCRIPTION:Results \nSacramento Raceway Park\n5305 Excelsior Rd\nSacramento\, CA 95827 \nSaturday\, August 20\, 2022\nSPE (1X) Event\n10AM \nMUST PREREGISTER ONLINE!! https://tickets.thefoat.com/…/tickets/id-CLEmWQGT1EZx/…\nOne Free USACI class comes with entry\, $20 for additional classes and IASCA classes.\n\nMedals 1st-3rd place \nContact: \n\nRay Pimley/Jose Ramos\njeepandbass@gmail.com
URL:https://iasca.com/event/1x-sacramento-ca-sacramento-raceworz-soundoff/
LOCATION:Sacramento  Raceway Park\, 5305 Excelsior Rd\, Sacramento\, CA\, 95827\, United States
END:VEVENT
BEGIN:VEVENT
DTSTART;VALUE=DATE:20220821
DTEND;VALUE=DATE:20220822
DTSTAMP:20260421T122636
CREATED:20220726T154110Z
LAST-MODIFIED:20220824T212450Z
UID:3603-1661040000-1661126399@iasca.com
SUMMARY:1X (Montclair\, CA) Audio Systems SQ Showdown 2
DESCRIPTION:Results \nAudio Systems\n5132 Holt Blvd.\nMontclair\, CA 91763 \nSPE (1X)\nSQC/IQC \nSunday\, August 21\, 2022\nRegistration 9AM\nCompetition 9:30AM\n$40 for 1st entry\, $30 each additional entry \nTrophies and medals for 1st to 3rd \nContact:\nRichard Papasin\n4086424577\npapasin@gmail.com
URL:https://iasca.com/event/1x-montclair-ca-audio-systems-sq-showdown-2/
LOCATION:Audio Systems\, 5132 Holt Blvd.\, Montclair\, CA\, 91763\, United States
END:VEVENT
BEGIN:VEVENT
DTSTART;VALUE=DATE:20220821
DTEND;VALUE=DATE:20220822
DTSTAMP:20260421T122636
CREATED:20220810T234008Z
LAST-MODIFIED:20220824T014759Z
UID:3640-1661040000-1661126399@iasca.com
SUMMARY:1x (Crystal Lake\, IL) SQOLOBBQ in Cubbieland
DESCRIPTION:Results \n12v Electronics\n716 Tek Dr\nSuite C\nCrystal Lake\, IL 60014 \nSunday\, Aug 21\, 2022\n8AM \nSPE (1x)\nSQC/IQC \n3X EMMA SQ & 1X IASCA SQ Competition\, Meet\, and BBQ.\nPre-registration is non-refundable so that we can make all the plans\, but with only $20 down\, you can still join in and share in some of the BBQ (supplied by 12V Electronics\, Vibe Audio USA\, and EMMA USA).\nThe remaining registration cost will be due at the time of the event (depending on what all you wish to compete in).\nTo pre-register\, message the SQOLOGY Facebook Page or send an email to register@down4sq.com\nContact:\nSQOLOGY\nKlifton Keplinger\n(812) 484-9688\ninfo@sqology.org
URL:https://iasca.com/event/1x-crystal-lake-il-sqolobbq-in-cubbieland/
LOCATION:12V Electronics\, 716 Tek Dr\, Crystal Lake\, IL\, 60014\, United States
END:VEVENT
BEGIN:VEVENT
DTSTART;VALUE=DATE:20220827
DTEND;VALUE=DATE:20220828
DTSTAMP:20260421T122636
CREATED:20220725T184957Z
LAST-MODIFIED:20220901T052006Z
UID:3600-1661558400-1661644799@iasca.com
SUMMARY:3XWR (Sterling\, IL)  Northland Thunder Fest
DESCRIPTION:Results \nNorthland Mall\n2900 East Lincoln Way\nSterling\, IL 61081 \nWR (3X) Event\nSQC/IQC/IdBL/Bass Boxing \n$40 for audio comp\, $15 for car show \nContact Info:\nEric Frey\neric.frey@hotmail.com\n8157163894
URL:https://iasca.com/event/3xwr-sterling-il-northland-thunder-fest/
LOCATION:Northland Mall\, 2900 East Lincoln Way\, Sterling\, IL\, 61081\, United States
END:VEVENT
BEGIN:VEVENT
DTSTART;VALUE=DATE:20220827
DTEND;VALUE=DATE:20220828
DTSTAMP:20260421T122636
CREATED:20220822T225622Z
LAST-MODIFIED:20220906T041111Z
UID:3656-1661558400-1661644799@iasca.com
SUMMARY:1X (Oakland\, CA) Not Surf Dual 1x
DESCRIPTION:Results \nAAA Car stereo\n10700 MacArthur Blvd #2f\nOakland\, CA 94605 \nSaturday\, August 27\, 2022\n9AM\nSPE (1X) Event\nIDBL and Bass Boxing\n$25 Entry \nContact Info:\nJose Ramos\njoseramos510@gmail.com\n5104232671
URL:https://iasca.com/event/1x-oakland-ca-not-surf-dual-1x/
LOCATION:AAA Car Stereo\, 10700 MacArthur Blvd #2f\, Oakland\, CA\, 94605\, United States
END:VEVENT
BEGIN:VEVENT
DTSTART;VALUE=DATE:20220827
DTEND;VALUE=DATE:20220829
DTSTAMP:20260421T122636
CREATED:20211207T233456Z
LAST-MODIFIED:20220901T052223Z
UID:3226-1661558400-1661731199@iasca.com
SUMMARY:3XWR (Lincoln City\, OR) Surf City
DESCRIPTION:Results \nChinook Winds Casino Resort\n1777 NW 44th St\nLincoln City\, OR 97367 \nSaturday\, August 27 2022\nSQC/IQC\nRegistration 8AM\nCompetition starts 9AM \nSunday\, August 28 2022\nIdBL/Bass Boxing\nRegistration 8AM\nCompetition starts 9AM \nPre-reg: https://survey.alchemer.com/s3/6793824/Surf-City-SoundOff-2022 \nPre-order hoodies here until August 10 at 12 PM Pacific: https://northwestspl-surfcity.square.site/ \nContact:\nTravis Chin\nTravis@iasca.com
URL:https://iasca.com/event/3xwr-lincoln-city-or-surf-city-3/
LOCATION:Chinook Winds Casino Resort\, 1777 NW 44th St. \, Lincoln City \, OR\, 97367\, United States
END:VEVENT
BEGIN:VEVENT
DTSTART;VALUE=DATE:20220903
DTEND;VALUE=DATE:20220905
DTSTAMP:20260421T122636
CREATED:20211015T201521Z
LAST-MODIFIED:20220906T041028Z
UID:3174-1662163200-1662335999@iasca.com
SUMMARY:1X (Newport\, TN) Slammin and Jammin
DESCRIPTION:Results \nCocke County Fairgrounds\n112 Fairground Circle\nNewport\, TN 37821 \nSeptember 3 & 4\, 2022\nSPE (1x)\nIdBL/Bass Boxing \nContact:\nJoey Perry\nFatboyz Car Audio\n(256) 470-0402\nfatboyzcaraudio@yahoo.com
URL:https://iasca.com/event/1x-newport-tn-slammin-and-jammin-3/
LOCATION:Cocke County Fairgrounds\, 112 Fairground Circle\, Newport\, TN\, 37821\, United States
END:VEVENT
BEGIN:VEVENT
DTSTART;VALUE=DATE:20220903
DTEND;VALUE=DATE:20220905
DTSTAMP:20260421T122636
CREATED:20220819T235301Z
LAST-MODIFIED:20220912T200450Z
UID:3654-1662163200-1662335999@iasca.com
SUMMARY:2X (Niles\, MI) Only Tints
DESCRIPTION:Results \nOnly Tints Window Tinting\n2524 Detroit Road\nNiles\, MI 49120 \nSaturday Sept 3\, 2022\nTweak & Tune \nDPE (2X)\nSQC \nContact:\nKeith Turner or Charles G Knight\n513-279-2250\nSQSHOWS@gmail.com
URL:https://iasca.com/event/2x-niles-mi-only-tints/
LOCATION:Only Tints Window Tinting\, 2524 Detroit Road\, Niles\, MI\, 49120\, United States
END:VEVENT
BEGIN:VEVENT
DTSTART;VALUE=DATE:20220904
DTEND;VALUE=DATE:20220905
DTSTAMP:20260421T122636
CREATED:20220725T180314Z
LAST-MODIFIED:20220907T205647Z
UID:3595-1662249600-1662335999@iasca.com
SUMMARY:1X (Durban\, South Africa) The Blak Sound Off SA Record Event - New Date
DESCRIPTION:Results \nIASCA KZN & Blak Automotive\n15 Meridian Dr\,\nUmhlanga\, Durban\, 4302\nSouth Africa \nSunday\, September 4\, 2022\nIdBL and Bass Boxing\nShow starts at 10AM \nContact:\nVinesh Bissoon\nVinesh-bisson234@gmail.com\n082 859 9494
URL:https://iasca.com/event/1x-durban-south-africa-the-blak-sound-off-sa-record-event/
LOCATION:Blak Automotive\, 15 Meridian Drive\, Umhlanga\, Durban\, 4302\, South Africa
END:VEVENT
BEGIN:VEVENT
DTSTART;VALUE=DATE:20220910
DTEND;VALUE=DATE:20220911
DTSTAMP:20260421T122636
CREATED:20220531T192250Z
LAST-MODIFIED:20220914T175405Z
UID:3491-1662768000-1662854399@iasca.com
SUMMARY:1X (Nashville\, TN) 2nd Annual fall Festival car Bike and Sound Show
DESCRIPTION:Results \nWalmart Nashville\n7044 Charlotte Pike\nNashville\, TN 37209 \nSaturday Sept 10\, 2022\nSPE (1x)\nIdBL/Bass Boxing \nRegistration/Competition at 10AM \nContact:\nJoey Perry\nFatboyz Car Audio\n(256) 470-0402\nfatboyzcaraudio@yahoo.com
URL:https://iasca.com/event/1x-nashville-tn-2nd-annual-fall-festival-car-bike-and-sound-show/
LOCATION:Walmart Nashville\, 7044 Charlotte Pike\, Nashville\, TN\, 37209\, United States
END:VEVENT
END:VCALENDAR